BEGIN:VCALENDAR
VERSION:2.0
PRODID:-//Office du Tourisme de Habay - ECPv6.15.20//NONSGML v1.0//EN
CALSCALE:GREGORIAN
METHOD:PUBLISH
X-ORIGINAL-URL:https://www.habay-tourisme.be
X-WR-CALDESC:Évènements pour Office du Tourisme de Habay
REFRESH-INTERVAL;VALUE=DURATION:PT1H
X-Robots-Tag:noindex
X-PUBLISHED-TTL:PT1H
BEGIN:VTIMEZONE
TZID:Europe/Paris
BEGIN:DAYLIGHT
TZOFFSETFROM:+0100
TZOFFSETTO:+0200
TZNAME:CEST
DTSTART:20240331T010000
END:DAYLIGHT
BEGIN:STANDARD
TZOFFSETFROM:+0200
TZOFFSETTO:+0100
TZNAME:CET
DTSTART:20241027T010000
END:STANDARD
BEGIN:DAYLIGHT
TZOFFSETFROM:+0100
TZOFFSETTO:+0200
TZNAME:CEST
DTSTART:20250330T010000
END:DAYLIGHT
BEGIN:STANDARD
TZOFFSETFROM:+0200
TZOFFSETTO:+0100
TZNAME:CET
DTSTART:20251026T010000
END:STANDARD
BEGIN:DAYLIGHT
TZOFFSETFROM:+0100
TZOFFSETTO:+0200
TZNAME:CEST
DTSTART:20260329T010000
END:DAYLIGHT
BEGIN:STANDARD
TZOFFSETFROM:+0200
TZOFFSETTO:+0100
TZNAME:CET
DTSTART:20261025T010000
END:STANDARD
END:VTIMEZONE
BEGIN:VEVENT
DTSTART;TZID=Europe/Paris:20251122T140000
DTEND;TZID=Europe/Paris:20251122T170000
DTSTAMP:20260425T040821
CREATED:20250614T090941Z
LAST-MODIFIED:20250614T091057Z
UID:9419-1763820000-1763830800@www.habay-tourisme.be
SUMMARY:Atelier « Cultivez vos champignons pour les fêtes » – Initiation à la culture de champignons à Anlier
DESCRIPTION:🍄 Apprenez à cultiver vos propres champignons à la maison et réalisez votre première culture de pleurotes avant les fêtes de fin d’année !Participez à l’atelier pratique « Cultivez vos champignons pour les fêtes » animé par Fanny Lecrombs\, agronome et maraîchère passionnée de permaculture\, le 22 novembre 2025 à Anlier (province de Luxembourg\, Belgique). \nLes champignons sont fascinants et peuvent devenir de véritables alliés pour votre potager et votre cuisine. Cet atelier vous initiera aux différentes familles de champignons cultivables à la maison\, que ce soit sur paille\, fumier\, copeaux ou bûches de bois. \nUn atelier pratique et accessible\nAu programme de cette formation : \n\n\nPrésentation des différentes techniques de culture de champignons domestiques \n\n\nRéalisation en direct d’une culture de pleurotes sur paille que chaque participant emportera chez lui \n\n\nExplication détaillée des étapes de culture et des conditions de réussite \n\n\nRemise d’une fiche de route pour reproduire la culture chez soi \n\n\nMatériel à apporter\nPour une expérience complète et pratique\, chaque participant devra apporter : \n\n\n1 seau de récupération de 5 ou 10 L opaque (type seau de sauce à frites)\, propre et avec couvercle \n\n\nEnviron 1\,5 kg de marc de café frais (conservé au congélateur puis dégivré au frigo avant l’atelier) \n\n\nÉventuellement : petite lime ronde\, papier de verre gros grain\, canif\, visseuse/foreuse avec scie cloche de 25 mm \n\n\nGants en latex (facultatif) \n\n\nInformations pratiques\n\n\n📅 Date : samedi 22 novembre 2025 \n\n\n🕒 Horaire : de 14h00 à 17h00 \n\n\n📍 Lieu : Anlier\, Belgique (province de Luxembourg) \n\n\n💰 Prix : 45 € \n\n\n👥 Participants : de 14 à 25 personnes maximum \n\n\nInscriptions et renseignements\n📩 Inscriptions en ligne : www.natureattitude.be📞 Contact administratif : Nature Attitude ASBL – 063/424727 – info@natureattitude.be📧 Questions techniques : formateliers@lamauvaiseherbe.bio📱 SMS uniquement : 0474/96.03.02 \nConditions d’annulation\nEn cas de désistement pour force majeure\, remboursement de 80 % sur présentation d’un justificatif officiel.
URL:https://www.habay-tourisme.be/event/atelier-culture-champignons-fetes/
LOCATION:Anlier
CATEGORIES:Cuisine et gastronomie,Dégustation,Stage-Atelier
ORGANIZER;CN="Nature Attitude":MAILTO:info@natureattitude.be
END:VEVENT
END:VCALENDAR