BEGIN:VCALENDAR
VERSION:2.0
PRODID:-//Office du Tourisme de Habay - ECPv6.15.20//NONSGML v1.0//EN
CALSCALE:GREGORIAN
METHOD:PUBLISH
X-WR-CALNAME:Office du Tourisme de Habay
X-ORIGINAL-URL:https://www.habay-tourisme.be
X-WR-CALDESC:Évènements pour Office du Tourisme de Habay
REFRESH-INTERVAL;VALUE=DURATION:PT1H
X-Robots-Tag:noindex
X-PUBLISHED-TTL:PT1H
BEGIN:VTIMEZONE
TZID:Europe/Paris
BEGIN:DAYLIGHT
TZOFFSETFROM:+0100
TZOFFSETTO:+0200
TZNAME:CEST
DTSTART:20250330T010000
END:DAYLIGHT
BEGIN:STANDARD
TZOFFSETFROM:+0200
TZOFFSETTO:+0100
TZNAME:CET
DTSTART:20251026T010000
END:STANDARD
BEGIN:DAYLIGHT
TZOFFSETFROM:+0100
TZOFFSETTO:+0200
TZNAME:CEST
DTSTART:20260329T010000
END:DAYLIGHT
BEGIN:STANDARD
TZOFFSETFROM:+0200
TZOFFSETTO:+0100
TZNAME:CET
DTSTART:20261025T010000
END:STANDARD
BEGIN:DAYLIGHT
TZOFFSETFROM:+0100
TZOFFSETTO:+0200
TZNAME:CEST
DTSTART:20270328T010000
END:DAYLIGHT
BEGIN:STANDARD
TZOFFSETFROM:+0200
TZOFFSETTO:+0100
TZNAME:CET
DTSTART:20271031T010000
END:STANDARD
END:VTIMEZONE
BEGIN:VEVENT
DTSTART;TZID=Europe/Paris:20260404T140000
DTEND;TZID=Europe/Paris:20260404T170000
DTSTAMP:20260424T204033
CREATED:20260318T085848Z
LAST-MODIFIED:20260318T085848Z
UID:12579-1775311200-1775322000@www.habay-tourisme.be
SUMMARY:BALADE A LA DÉCOUVERTE DES PLANTES COMESTIBLES ET MÉDICINALES (AVRIL)
DESCRIPTION:Manger ou se soigner grâce aux plantes sauvages\, oui mais encore faut-il les reconnaître. \nNous vous proposons une balade afin d’identifier quelques plantes courantes comestibles et/ou médicinales. Vous apprendrez aussi à reconnaître les plantes toxiques sur le parcours pour éviter tout danger. \nLa balade sera guidée par Bernadette Delit qui vous proposera quelques préparations à déguster. \nInfos pratiques \n\nQuand  : Samedi 4 avril de 14h à 17h. Une balade similaire est également proposée à l’automne (inscription séparée)\nOù : RDV à l’église de Saint-Vincent (commune de Tintigny)\nA partir de 4 ans. Distance : 4 km – Non accessible en poussette – chiens admis en laisse\nPrix : 10€ (5 € < 12 ans). Paiement sur place. Dans la mesure du possible\, merci de prévoir la somme exacte\n\nEn cas de désistement\, merci de nous prévenir dès que possible pour permettre aux éventuelles personnes inscrites sur liste d’attente de reprendre votre place. \n\nInscriptions en ligne obligatoire : www.natureattitude.be pour les adultes et les enfants > 12 ans\nRenseignements : ASBL “Nature attitude”: 063/42 47 27 ou info@natureattitude\nLien pour covoiturer
URL:https://www.habay-tourisme.be/event/balade-plantes-comestibles-et-medicinales/
LOCATION:Tinti
CATEGORIES:Cuisine et gastronomie,Dégustation,Nature
ORGANIZER;CN="Nature Attitude":MAILTO:info@natureattitude.be
END:VEVENT
END:VCALENDAR