BEGIN:VCALENDAR
VERSION:2.0
PRODID:-//Office du Tourisme de Habay - ECPv6.15.20//NONSGML v1.0//EN
CALSCALE:GREGORIAN
METHOD:PUBLISH
X-WR-CALNAME:Office du Tourisme de Habay
X-ORIGINAL-URL:https://www.habay-tourisme.be
X-WR-CALDESC:Évènements pour Office du Tourisme de Habay
REFRESH-INTERVAL;VALUE=DURATION:PT1H
X-Robots-Tag:noindex
X-PUBLISHED-TTL:PT1H
BEGIN:VTIMEZONE
TZID:Europe/Paris
BEGIN:DAYLIGHT
TZOFFSETFROM:+0100
TZOFFSETTO:+0200
TZNAME:CEST
DTSTART:20250330T010000
END:DAYLIGHT
BEGIN:STANDARD
TZOFFSETFROM:+0200
TZOFFSETTO:+0100
TZNAME:CET
DTSTART:20251026T010000
END:STANDARD
BEGIN:DAYLIGHT
TZOFFSETFROM:+0100
TZOFFSETTO:+0200
TZNAME:CEST
DTSTART:20260329T010000
END:DAYLIGHT
BEGIN:STANDARD
TZOFFSETFROM:+0200
TZOFFSETTO:+0100
TZNAME:CET
DTSTART:20261025T010000
END:STANDARD
BEGIN:DAYLIGHT
TZOFFSETFROM:+0100
TZOFFSETTO:+0200
TZNAME:CEST
DTSTART:20270328T010000
END:DAYLIGHT
BEGIN:STANDARD
TZOFFSETFROM:+0200
TZOFFSETTO:+0100
TZNAME:CET
DTSTART:20271031T010000
END:STANDARD
END:VTIMEZONE
BEGIN:VEVENT
DTSTART;TZID=Europe/Paris:20260327T180000
DTEND;TZID=Europe/Paris:20260327T200000
DTSTAMP:20260425T005712
CREATED:20260325T112833Z
LAST-MODIFIED:20260325T113400Z
UID:12604-1774634400-1774641600@www.habay-tourisme.be
SUMMARY:Exposition Sacha Polianina - Vernissage
DESCRIPTION:Au Syndicat d’Initiative de Habay jusqu’à fin avril\, découvrez l’exposition « Le Mouvement de la Nature » de Sacha Polianina.Une artiste qui mêle danse et peinture\, créant des œuvres inspirées par les mouvements et l’énergie de la nature. \nSoyez les bienvenus au vernissage ce vendredi 27 mars de 18h à 20h00. \nInfos pratiques : \nDu mardi au mercredi : 9h-13h\nVendredi : 9h-13h et 13h30-18h\nSamedi : 9h-13h et 13h30-16h
URL:https://www.habay-tourisme.be/event/exposition-sacha-polianina-vernissage/
LOCATION:Syndicat d’Initiative de Habay\, rue de Luxembourg\, 3\, Habay-la-Neuve\, 6720\, Belgique
CATEGORIES:Expositions
ORGANIZER;CN="Syndicat d'Initiative de Habay-la-Neuve":MAILTO:info@habay-tourisme.be
END:VEVENT
END:VCALENDAR