BEGIN:VCALENDAR
VERSION:2.0
PRODID:-//Office du Tourisme de Habay - ECPv6.15.20//NONSGML v1.0//EN
CALSCALE:GREGORIAN
METHOD:PUBLISH
X-WR-CALNAME:Office du Tourisme de Habay
X-ORIGINAL-URL:https://www.habay-tourisme.be
X-WR-CALDESC:Évènements pour Office du Tourisme de Habay
REFRESH-INTERVAL;VALUE=DURATION:PT1H
X-Robots-Tag:noindex
X-PUBLISHED-TTL:PT1H
BEGIN:VTIMEZONE
TZID:Europe/Paris
BEGIN:DAYLIGHT
TZOFFSETFROM:+0100
TZOFFSETTO:+0200
TZNAME:CEST
DTSTART:20250330T010000
END:DAYLIGHT
BEGIN:STANDARD
TZOFFSETFROM:+0200
TZOFFSETTO:+0100
TZNAME:CET
DTSTART:20251026T010000
END:STANDARD
BEGIN:DAYLIGHT
TZOFFSETFROM:+0100
TZOFFSETTO:+0200
TZNAME:CEST
DTSTART:20260329T010000
END:DAYLIGHT
BEGIN:STANDARD
TZOFFSETFROM:+0200
TZOFFSETTO:+0100
TZNAME:CET
DTSTART:20261025T010000
END:STANDARD
BEGIN:DAYLIGHT
TZOFFSETFROM:+0100
TZOFFSETTO:+0200
TZNAME:CEST
DTSTART:20270328T010000
END:DAYLIGHT
BEGIN:STANDARD
TZOFFSETFROM:+0200
TZOFFSETTO:+0100
TZNAME:CET
DTSTART:20271031T010000
END:STANDARD
END:VTIMEZONE
BEGIN:VEVENT
DTSTART;TZID=Europe/Paris:20260627T080000
DTEND;TZID=Europe/Paris:20260628T170000
DTSTAMP:20260425T010150
CREATED:20260424T084118Z
LAST-MODIFIED:20260424T084138Z
UID:12745-1782547200-1782666000@www.habay-tourisme.be
SUMMARY:Expo - L'art du carton
DESCRIPTION:Une expo pas comme les autres…Le carton devient matière artistique entre les mains du Belge Mathieu Gilmaire Des œuvres étonnantes\, brutes et vivantes à découvrir au cœur de la ferme  À voir tout le week-end dans notre ferme lors des Journées Fermes Ouvertes Visites • animations • marché bio • soirée guinguette • repas Bio-Gastronomique
URL:https://www.habay-tourisme.be/event/12745/
LOCATION:la ferme du château vert\, rue de la Rochette\, Habay-la-vieille\, Belgique
CATEGORIES:Artisanat,Expositions,Famille
END:VEVENT
END:VCALENDAR