BEGIN:VCALENDAR
VERSION:2.0
PRODID:-//Office du Tourisme de Habay - ECPv6.15.20//NONSGML v1.0//EN
CALSCALE:GREGORIAN
METHOD:PUBLISH
X-WR-CALNAME:Office du Tourisme de Habay
X-ORIGINAL-URL:https://www.habay-tourisme.be
X-WR-CALDESC:Évènements pour Office du Tourisme de Habay
REFRESH-INTERVAL;VALUE=DURATION:PT1H
X-Robots-Tag:noindex
X-PUBLISHED-TTL:PT1H
BEGIN:VTIMEZONE
TZID:Europe/Paris
BEGIN:DAYLIGHT
TZOFFSETFROM:+0100
TZOFFSETTO:+0200
TZNAME:CEST
DTSTART:20250330T010000
END:DAYLIGHT
BEGIN:STANDARD
TZOFFSETFROM:+0200
TZOFFSETTO:+0100
TZNAME:CET
DTSTART:20251026T010000
END:STANDARD
BEGIN:DAYLIGHT
TZOFFSETFROM:+0100
TZOFFSETTO:+0200
TZNAME:CEST
DTSTART:20260329T010000
END:DAYLIGHT
BEGIN:STANDARD
TZOFFSETFROM:+0200
TZOFFSETTO:+0100
TZNAME:CET
DTSTART:20261025T010000
END:STANDARD
BEGIN:DAYLIGHT
TZOFFSETFROM:+0100
TZOFFSETTO:+0200
TZNAME:CEST
DTSTART:20270328T010000
END:DAYLIGHT
BEGIN:STANDARD
TZOFFSETFROM:+0200
TZOFFSETTO:+0100
TZNAME:CET
DTSTART:20271031T010000
END:STANDARD
END:VTIMEZONE
BEGIN:VEVENT
DTSTART;TZID=Europe/Paris:20260501T100000
DTEND;TZID=Europe/Paris:20260501T150000
DTSTAMP:20260424T204038
CREATED:20260328T093014Z
LAST-MODIFIED:20260422T094847Z
UID:12622-1777629600-1777647600@www.habay-tourisme.be
SUMMARY:La vie de château en famille
DESCRIPTION: »Découvrez les secrets et les légendes des châteaux de Habay » \nDurant la journée du 1er mai\, à partir de 10h \nChâteau de la Trapperie\, 2 Chemin de la Trapperie 6723 Habay-la-Vieille – de 10h à 14h \n\n11h et 13h\, visites guidées du parc\, sur inscription via info@habay-tourisme.be (COMPLET)\nChasse au trésor accessible durant l’ouverture du site\npetite restauration\n\nChâteau du Pont d’Oye\, 1 rue du Pont d’Oye 6720 Habay-la-Neuve – de 10h à 15h \n\n10h45 et 13h45\, visites guidées\, sur inscription via bienvenue@chateaudupontdoye.com\nChasse au trésor accessible durant l’ouverture du site\n11h30 et 13h\, concerts\npetite restauration\n\nPossibilité de combiner les visites ! ... une visite le matin à la Trapperie puis une visite à 13h au Pont d’Oye…  \nPossibilité de rejoindre à pied les deux sites ! (+/- 5km aller)   Pdf à télécharger
URL:https://www.habay-tourisme.be/event/la-vie-de-chateau-en-famille/
LOCATION:Habay
CATEGORIES:Concerts,Dégustation,Famille,Histoire,Patrimoine/Histoire,Spectacles
ORGANIZER;CN="OT Habay":MAILTO:info@habay-tourisme.be
END:VEVENT
BEGIN:VEVENT
DTSTART;TZID=Europe/Paris:20260524T140000
DTEND;TZID=Europe/Paris:20260524T170000
DTSTAMP:20260424T204038
CREATED:20251224T101605Z
LAST-MODIFIED:20260328T141856Z
UID:12258-1779631200-1779642000@www.habay-tourisme.be
SUMMARY:Découverte des plantes comestibles de notre région
DESCRIPTION:Balade plantes comestibles à Habay – Découverte le 24 mai 2026\nGuide : Bernadette Delit \nLe 24 mai 2026\, partez à la découverte des plantes comestibles de nos paysages lors d’une balade nature guidée à Habay\, animée par un expert de la flore locale. Cette sortie est idéale pour apprendre à reconnaître les plantes sauvages comestibles et mieux comprendre leur environnement. \nAu fil de la promenade\, vous apprendrez à identifier les plantes\, à découvrir leurs usages culinaires\, leurs vertus traditionnelles et les précautions à connaître. Une approche pédagogique et accessible\, mêlant observation\, échanges et immersion en pleine nature. \nCette balade conviviale et instructive s’adresse à tous : curieux\, passionnés de nature\, familles ou amateurs de cuisine sauvage souhaitant redécouvrir les trésors de la flore locale dans un cadre naturel apaisant.
URL:https://www.habay-tourisme.be/event/balades-plantes-comestibles/
CATEGORIES:Dégustation,Famille,Marche,Nature
ORGANIZER;CN="Syndicat d'Initiative de Habay-la-Neuve":MAILTO:info@habay-tourisme.be
END:VEVENT
END:VCALENDAR