BEGIN:VCALENDAR
VERSION:2.0
PRODID:-//Office du Tourisme de Habay - ECPv6.15.20//NONSGML v1.0//EN
CALSCALE:GREGORIAN
METHOD:PUBLISH
X-WR-CALNAME:Office du Tourisme de Habay
X-ORIGINAL-URL:https://www.habay-tourisme.be
X-WR-CALDESC:Évènements pour Office du Tourisme de Habay
REFRESH-INTERVAL;VALUE=DURATION:PT1H
X-Robots-Tag:noindex
X-PUBLISHED-TTL:PT1H
BEGIN:VTIMEZONE
TZID:Europe/Paris
BEGIN:DAYLIGHT
TZOFFSETFROM:+0100
TZOFFSETTO:+0200
TZNAME:CEST
DTSTART:20240331T010000
END:DAYLIGHT
BEGIN:STANDARD
TZOFFSETFROM:+0200
TZOFFSETTO:+0100
TZNAME:CET
DTSTART:20241027T010000
END:STANDARD
BEGIN:DAYLIGHT
TZOFFSETFROM:+0100
TZOFFSETTO:+0200
TZNAME:CEST
DTSTART:20250330T010000
END:DAYLIGHT
BEGIN:STANDARD
TZOFFSETFROM:+0200
TZOFFSETTO:+0100
TZNAME:CET
DTSTART:20251026T010000
END:STANDARD
BEGIN:DAYLIGHT
TZOFFSETFROM:+0100
TZOFFSETTO:+0200
TZNAME:CEST
DTSTART:20260329T010000
END:DAYLIGHT
BEGIN:STANDARD
TZOFFSETFROM:+0200
TZOFFSETTO:+0100
TZNAME:CET
DTSTART:20261025T010000
END:STANDARD
END:VTIMEZONE
BEGIN:VEVENT
DTSTART;TZID=Europe/Paris:20250427T150000
DTEND;TZID=Europe/Paris:20250427T233000
DTSTAMP:20260423T125725
CREATED:20250404T145404Z
LAST-MODIFIED:20250404T145416Z
UID:8763-1745766000-1745796600@www.habay-tourisme.be
SUMMARY:Carnaval de la Marquise
DESCRIPTION:15h Cortège avec près de 30 chars venus de tous les horizons \n18h Soirée de clôture du 10ème carnaval de Habay animée par Everybody Events \nGRATUIT \n 
URL:https://www.habay-tourisme.be/event/carnaval-de-la-marquise/
LOCATION:Habay-la-Neuve\, 11\, Route de Gérasa\, 6720 Habay-la-Neuve\, Belgium
CATEGORIES:Carnaval,Famille,Fêtes,Spectacles
END:VEVENT
END:VCALENDAR