BEGIN:VCALENDAR
VERSION:2.0
PRODID:-//Office du Tourisme de Habay - ECPv6.15.20//NONSGML v1.0//EN
CALSCALE:GREGORIAN
METHOD:PUBLISH
X-WR-CALNAME:Office du Tourisme de Habay
X-ORIGINAL-URL:https://www.habay-tourisme.be
X-WR-CALDESC:Évènements pour Office du Tourisme de Habay
REFRESH-INTERVAL;VALUE=DURATION:PT1H
X-Robots-Tag:noindex
X-PUBLISHED-TTL:PT1H
BEGIN:VTIMEZONE
TZID:Europe/Paris
BEGIN:DAYLIGHT
TZOFFSETFROM:+0100
TZOFFSETTO:+0200
TZNAME:CEST
DTSTART:20240331T010000
END:DAYLIGHT
BEGIN:STANDARD
TZOFFSETFROM:+0200
TZOFFSETTO:+0100
TZNAME:CET
DTSTART:20241027T010000
END:STANDARD
BEGIN:DAYLIGHT
TZOFFSETFROM:+0100
TZOFFSETTO:+0200
TZNAME:CEST
DTSTART:20250330T010000
END:DAYLIGHT
BEGIN:STANDARD
TZOFFSETFROM:+0200
TZOFFSETTO:+0100
TZNAME:CET
DTSTART:20251026T010000
END:STANDARD
BEGIN:DAYLIGHT
TZOFFSETFROM:+0100
TZOFFSETTO:+0200
TZNAME:CEST
DTSTART:20260329T010000
END:DAYLIGHT
BEGIN:STANDARD
TZOFFSETFROM:+0200
TZOFFSETTO:+0100
TZNAME:CET
DTSTART:20261025T010000
END:STANDARD
END:VTIMEZONE
BEGIN:VEVENT
DTSTART;TZID=Europe/Paris:20251026T093000
DTEND;TZID=Europe/Paris:20251026T120000
DTSTAMP:20260425T054020
CREATED:20251018T074059Z
LAST-MODIFIED:20251018T074132Z
UID:12079-1761471000-1761480000@www.habay-tourisme.be
SUMMARY:Découverte ''Champignons'' à Habay-la-Neuve (complet)
DESCRIPTION:Octobre en balades & découvertes  \n\nCe mois d’octobre\, partez à la rencontre de la nature:\n Dimanche 26 octobre à Habay-la-Neuve.\n Balade à la découverte des champignons\n 6 € / personne – gratuit -12ans – ndisur inscription\n Que vous soyez passionné·e de nature\, curieux·se de découvrir la flore et les champignons\, il y en a pour tous les goûts !
URL:https://www.habay-tourisme.be/event/decouverte-champignons-a-habay-la-neuve-complet/
LOCATION:Syndicat d’Initiative de Habay\, rue de Luxembourg\, 3\, Habay-la-Neuve\, 6720\, Belgique
CATEGORIES:Famille,Nature
ORGANIZER;CN="Syndicat d'Initiative de Habay-la-Neuve":MAILTO:info@habay-tourisme.be
END:VEVENT
END:VCALENDAR