BEGIN:VCALENDAR
VERSION:2.0
PRODID:-//Office du Tourisme de Habay - ECPv6.15.20//NONSGML v1.0//EN
CALSCALE:GREGORIAN
METHOD:PUBLISH
X-WR-CALNAME:Office du Tourisme de Habay
X-ORIGINAL-URL:https://www.habay-tourisme.be
X-WR-CALDESC:Évènements pour Office du Tourisme de Habay
REFRESH-INTERVAL;VALUE=DURATION:PT1H
X-Robots-Tag:noindex
X-PUBLISHED-TTL:PT1H
BEGIN:VTIMEZONE
TZID:Europe/Paris
BEGIN:DAYLIGHT
TZOFFSETFROM:+0100
TZOFFSETTO:+0200
TZNAME:CEST
DTSTART:20240331T010000
END:DAYLIGHT
BEGIN:STANDARD
TZOFFSETFROM:+0200
TZOFFSETTO:+0100
TZNAME:CET
DTSTART:20241027T010000
END:STANDARD
BEGIN:DAYLIGHT
TZOFFSETFROM:+0100
TZOFFSETTO:+0200
TZNAME:CEST
DTSTART:20250330T010000
END:DAYLIGHT
BEGIN:STANDARD
TZOFFSETFROM:+0200
TZOFFSETTO:+0100
TZNAME:CET
DTSTART:20251026T010000
END:STANDARD
BEGIN:DAYLIGHT
TZOFFSETFROM:+0100
TZOFFSETTO:+0200
TZNAME:CEST
DTSTART:20260329T010000
END:DAYLIGHT
BEGIN:STANDARD
TZOFFSETFROM:+0200
TZOFFSETTO:+0100
TZNAME:CET
DTSTART:20261025T010000
END:STANDARD
END:VTIMEZONE
BEGIN:VEVENT
DTSTART;TZID=Europe/Paris:20251027T090000
DTEND;TZID=Europe/Paris:20251031T163000
DTSTAMP:20260425T041047
CREATED:20250614T091752Z
LAST-MODIFIED:20250614T092212Z
UID:9425-1761555600-1761928200@www.habay-tourisme.be
SUMMARY:Stage nature automne pour enfants de 6 à 10 ans à Anlier
DESCRIPTION:🍂 Une aventure nature en pleine forêt pendant les vacances de Toussaint ! \nDu 27 au 31 octobre 2025\, le CRIE d’Anlier propose un stage nature automnal pour les enfants de 6 à 10 ans (nés entre 2015 et 2019). Une semaine pour vivre au rythme de la nature\, explorer la forêt\, apprendre à reconnaître les plantes sauvages et s’amuser en plein air. \nAu programme de ce stage nature automne :\n\n\nJeux et découvertes en forêt : sauter dans les flaques\, suivre le cours de la rivière \n\n\nCueillette et cuisine de plantes sauvages sur le feu de camp \n\n\nApprendre à se camoufler dans les fougères pour observer la faune discrètement \n\n\nDécouvrir les secrets des arbres et suivre les traces des animaux de la forêt \n\n\nS’orienter grâce au soleil et à la boussole \n\n\nVivre sans montre et se reconnecter au vivant \n\n\nCe stage de vacances en immersion nature offre aux enfants l’opportunité de s’épanouir en extérieur\, d’explorer la biodiversité et de développer autonomie\, curiosité et respect de l’environnement. \nInformations pratiques\n\n\n📅 Dates : du lundi 27 au vendredi 31 octobre 2025 \n\n\n🕘 Horaire : de 9h00 à 16h30 \n\n\n📍 Lieu : CRIE d’Anlier (province de Luxembourg\, Belgique) \n\n\n👧🧒 Âge : 6-10 ans (enfants nés entre 2015 et 2019) \n\n\n💰 Tarif : 110 € (100 € pour les frères et sœurs inscrits la même semaine) \n\n\nGarderie disponible :\n\n\n🕑 Horaire : de 8h30 à 17h30 \n\n\n💰 Tarif : 2 €/30 min \n\n\nInscriptions et renseignements :\n📩 Inscriptions en ligne : www.natureattitude.be📞 Contact administratif : ASBL Nature Attitude – 063/424727 – info@natureattitude.be \n👉 Consulter les modalités d’inscription\, de paiement et de garderie : natureattitude.be/stages-enfants
URL:https://www.habay-tourisme.be/event/stage-nature-automne-pour-enfants-de-6-a-10-ans-a-anlier/
LOCATION:Anlier
CATEGORIES:Halloween,Nature,Stage-Atelier
ORGANIZER;CN="Nature Attitude":MAILTO:info@natureattitude.be
END:VEVENT
END:VCALENDAR