BEGIN:VCALENDAR
VERSION:2.0
PRODID:-//Office du Tourisme de Habay - ECPv6.15.20//NONSGML v1.0//EN
CALSCALE:GREGORIAN
METHOD:PUBLISH
X-ORIGINAL-URL:https://www.habay-tourisme.be
X-WR-CALDESC:Évènements pour Office du Tourisme de Habay
REFRESH-INTERVAL;VALUE=DURATION:PT1H
X-Robots-Tag:noindex
X-PUBLISHED-TTL:PT1H
BEGIN:VTIMEZONE
TZID:Europe/Paris
BEGIN:DAYLIGHT
TZOFFSETFROM:+0100
TZOFFSETTO:+0200
TZNAME:CEST
DTSTART:20250330T010000
END:DAYLIGHT
BEGIN:STANDARD
TZOFFSETFROM:+0200
TZOFFSETTO:+0100
TZNAME:CET
DTSTART:20251026T010000
END:STANDARD
BEGIN:DAYLIGHT
TZOFFSETFROM:+0100
TZOFFSETTO:+0200
TZNAME:CEST
DTSTART:20260329T010000
END:DAYLIGHT
BEGIN:STANDARD
TZOFFSETFROM:+0200
TZOFFSETTO:+0100
TZNAME:CET
DTSTART:20261025T010000
END:STANDARD
BEGIN:DAYLIGHT
TZOFFSETFROM:+0100
TZOFFSETTO:+0200
TZNAME:CEST
DTSTART:20270328T010000
END:DAYLIGHT
BEGIN:STANDARD
TZOFFSETFROM:+0200
TZOFFSETTO:+0100
TZNAME:CET
DTSTART:20271031T010000
END:STANDARD
END:VTIMEZONE
BEGIN:VEVENT
DTSTART;TZID=Europe/Paris:20260307T070000
DTEND;TZID=Europe/Paris:20260307T120000
DTSTAMP:20260419T163424
CREATED:20260304T114230Z
LAST-MODIFIED:20260304T114230Z
UID:12531-1772866800-1772884800@www.habay-tourisme.be
SUMMARY:Ouverture de la saison de la pêche à la truite 2026 (étang)
DESCRIPTION:Saison 2026 \nAmis pêcheurs\, amis villageois nous avons le bonheur de vous annoncer que la saison 2026 de pêche à la truite va bientot commencer !\nN’hésitez pas à venir nous rendre visite pour une partie de pêche en famille\, seul ou entre amis… Vous n’aimez pas la pêche ?! Passez quand même papoter tout en dégustant l’un de nos délicieux Thé Gaumais ( Orval ) où l’une de nos incroyable Royco minutes soupe ! \nQuand : \nLe samedi 7/3/2026 à 7h du matin pour la pèche en étang. \nLe 21/3/2026 pour la pêche en rivière. \nBon à savoir : \nL’assemblée générale ainsi que la vente des cartes de pêche en rivière se dérouleront le dimanche 8 mars à 14h précise ! \nLes amis de la pêcherie de Rulles vous attendent avec impatience ! \nÀ très vite.
URL:https://www.habay-tourisme.be/event/ouverture-de-la-saison-de-la-peche-a-la-truite-2026-etang/
LOCATION:Pecherie à Rulles\, Chemin de la Bergerie\, Rulles
END:VEVENT
BEGIN:VEVENT
DTSTART;TZID=Europe/Paris:20260321T070000
DTEND;TZID=Europe/Paris:20260321T120000
DTSTAMP:20260419T163424
CREATED:20260304T114355Z
LAST-MODIFIED:20260304T114413Z
UID:12535-1774076400-1774094400@www.habay-tourisme.be
SUMMARY:Ouverture de la saison de la pêche à la truite 2026 (rivière)
DESCRIPTION:Saison 2026 \nAmis pêcheurs\, amis villageois nous avons le bonheur de vous annoncer que la saison 2026 de pêche à la truite va bientot commencer !\nN’hésitez pas à venir nous rendre visite pour une partie de pêche en famille\, seul ou entre amis… Vous n’aimez pas la pêche ?! Passez quand même papoter tout en dégustant l’un de nos délicieux Thé Gaumais ( Orval ) où l’une de nos incroyable Royco minutes soupe ! \nQuand : \nLe samedi 7/3/2026 à 7h du matin pour la pèche en étang. \nLe 21/3/2026 pour la pêche en rivière. \nBon à savoir : \nL’assemblée générale ainsi que la vente des cartes de pêche en rivière se dérouleront le dimanche 8 mars à 14h précise ! \nLes amis de la pêcherie de Rulles vous attendent avec impatience ! \nÀ très vite.
URL:https://www.habay-tourisme.be/event/ouverture-de-la-saison-de-la-peche-a-la-truite-2026-riviere/
LOCATION:Pecherie à Rulles\, Chemin de la Bergerie\, Rulles
CATEGORIES:Pêche
END:VEVENT
END:VCALENDAR